BEGIN:VCALENDAR
VERSION:2.0
PRODID:-//catcat.cat - ECPv5.2.1//NONSGML v1.0//EN
CALSCALE:GREGORIAN
METHOD:PUBLISH
X-WR-CALNAME:catcat.cat
X-ORIGINAL-URL:https://www.catcat-celltissuebiology.cat
X-WR-CALDESC:Events for catcat.cat
BEGIN:VTIMEZONE
TZID:UTC
BEGIN:STANDARD
TZOFFSETFROM:+0000
TZOFFSETTO:+0000
TZNAME:UTC
DTSTART:20250101T000000
END:STANDARD
END:VTIMEZONE
BEGIN:VEVENT
DTSTART;TZID=UTC:20250526T091500
DTEND;TZID=UTC:20250526T133000
DTSTAMP:20260421T183056
CREATED:20250312T092031Z
LAST-MODIFIED:20250512T093209Z
UID:1653-1748250900-1748266200@www.catcat-celltissuebiology.cat
SUMMARY:9th CATCAT morning - Dynamics in biology\, from molecules to tissues
DESCRIPTION:The upcoming CATCAT morning will focus on Dynamics in Biology: From Molecules to Tissues and will feature a lineup of local and international speakers\, with Reinhard Fässler (Max Planck Institute of Biochemistry\, Germany) as the keynote speaker. \nThe event will take place at the PRBB Auditorium on the 26th of May. Check the full program below. \nAdmission is free\, but registration is required – Register here before 16th May! \n\n\n\n\n\n \nEvent organised with the support of
URL:https://www.catcat-celltissuebiology.cat/event/9th-catcat-morning-dynamics-in-biology-from-molecules-to-tissues/
LOCATION:PRBB Auditorium\, C/ del Dr. Aiguader\, 88\, Barcelona\, 08003
ATTACH;FMTTYPE=image/png:https://www.catcat-celltissuebiology.cat/wp-content/uploads/2025/03/20250526_CATCAT_Banner.png
END:VEVENT
END:VCALENDAR