BEGIN:VCALENDAR
VERSION:2.0
PRODID:-//catcat.cat - ECPv5.2.1//NONSGML v1.0//EN
CALSCALE:GREGORIAN
METHOD:PUBLISH
X-WR-CALNAME:catcat.cat
X-ORIGINAL-URL:https://www.catcat-celltissuebiology.cat
X-WR-CALDESC:Events for catcat.cat
BEGIN:VTIMEZONE
TZID:Europe/Paris
BEGIN:DAYLIGHT
TZOFFSETFROM:+0100
TZOFFSETTO:+0200
TZNAME:CEST
DTSTART:20240331T010000
END:DAYLIGHT
BEGIN:STANDARD
TZOFFSETFROM:+0200
TZOFFSETTO:+0100
TZNAME:CET
DTSTART:20241027T010000
END:STANDARD
END:VTIMEZONE
BEGIN:VEVENT
DTSTART;TZID=Europe/Paris:20240219T091500
DTEND;TZID=Europe/Paris:20240219T130000
DTSTAMP:20260421T133411
CREATED:20240125T100340Z
LAST-MODIFIED:20240215T074420Z
UID:1579-1708334100-1708347600@www.catcat-celltissuebiology.cat
SUMMARY:8th CATCAT morning - Mechanobiology
DESCRIPTION:This CATCAT morning will revolve around Mechanobiology. \nThe event will take place at the PCB Auditorium on the 19th of February. \nCheck the full program below and don’t miss it! No registration required\, free event.
URL:https://www.catcat-celltissuebiology.cat/event/8th-catcat-morning/
LOCATION:Auditorium del Parc Cientific de Barcelona\, Carrer Baldiri Reixac\, Barcelona\, Spain
CATEGORIES:CATCAT Morning
ATTACH;FMTTYPE=image/png:https://www.catcat-celltissuebiology.cat/wp-content/uploads/2024/01/20240219_CATCAT_Banner.png
END:VEVENT
END:VCALENDAR