BEGIN:VCALENDAR
VERSION:2.0
PRODID:-//catcat.cat - ECPv5.2.1//NONSGML v1.0//EN
CALSCALE:GREGORIAN
METHOD:PUBLISH
X-WR-CALNAME:catcat.cat
X-ORIGINAL-URL:https://www.catcat-celltissuebiology.cat
X-WR-CALDESC:Events for catcat.cat
BEGIN:VTIMEZONE
TZID:UTC
BEGIN:STANDARD
TZOFFSETFROM:+0000
TZOFFSETTO:+0000
TZNAME:UTC
DTSTART:20210101T000000
END:STANDARD
END:VTIMEZONE
BEGIN:VEVENT
DTSTART;TZID=UTC:20211130T100000
DTEND;TZID=UTC:20211130T130000
DTSTAMP:20260421T182718
CREATED:20211021T152713Z
LAST-MODIFIED:20211119T085213Z
UID:1330-1638266400-1638277200@www.catcat-celltissuebiology.cat
SUMMARY:4th CATCAT Morning
DESCRIPTION:4th CATCAT Morning\nNovember 30th\, 2021\n10:00 – 13:10\nProgramme\n10:00 – 10:10 Welcome \n10:10 – 10:40 Joan Roig – IBMB-CSIC\nAdaptor phosphorylation regulates dynein function and centrosome separation in G2/M \n10:40 – 10:55 Neus Sanfeliu Cerdán – ICFO\nA surprising role of titin in neuronal mechanotransduction \n10:55 – 11:10 Carmen Moccia– EMBL\nFormation and characterization of a breast microvasculature on-chip \n11:10 – 11:25 Juan Andres Torreno-Pina – ICFO & CRG\nPhase separation of tunable transcriptional condensates predicted by an interacting particle model \n11:25 – 11:55 Break \n11:55 – 12:10 Melika Parchehbaf Kashani – IBEC\nBioprinted GelMA-PEGDA hydrogels to mimic patient-specific tumor metastatic microenvironment \n12:10 – 12:25 Annalisa Calò – IBEC\nSpatial mapping of human cells and tissues by scanning probe microscopy (SPM) \n12:25 – 12:55 Valeria Venturini – ICFO & CRG\nThe nucleus as a mechano-controller of migration plasticity \n12:55 – 13:00 Final remarks \nThis event is hybrid and will be held at the PRBB*\, Charles Darwin meeting\nroom and also via Zoom.\nPre-register HERE\n*Capacity limit. Pre- registration is required. A notification e-mail will be sent\nby Friday November 26th \n  \n 
URL:https://www.catcat-celltissuebiology.cat/event/4th-catcat-morning/
LOCATION:Hybrid in-person/online\, Charles Darwin (PRBB)/Zoom
CATEGORIES:CATCAT Morning
ATTACH;FMTTYPE=application/pdf:https://www.catcat-celltissuebiology.cat/wp-content/uploads/2021/10/4thCATCAT_morning_16-9_image-Copy.pdf
END:VEVENT
END:VCALENDAR